BEGIN:VCALENDAR
VERSION:2.0
PRODID:-//Town of Davidson - ECPv6.0.4//NONSGML v1.0//EN
CALSCALE:GREGORIAN
METHOD:PUBLISH
X-ORIGINAL-URL:https://townofdavidson.com
X-WR-CALDESC:Events for Town of Davidson
REFRESH-INTERVAL;VALUE=DURATION:PT1H
X-Robots-Tag:noindex
X-PUBLISHED-TTL:PT1H
BEGIN:VTIMEZONE
TZID:America/Regina
BEGIN:STANDARD
TZOFFSETFROM:-0600
TZOFFSETTO:-0600
TZNAME:CST
DTSTART:20250101T000000
END:STANDARD
END:VTIMEZONE
BEGIN:VEVENT
DTSTART;TZID=America/Regina:20251105T090000
DTEND;TZID=America/Regina:20251105T120000
DTSTAMP:20260425T074641
CREATED:20251103T173206Z
LAST-MODIFIED:20251103T173206Z
UID:2641-1762333200-1762344000@townofdavidson.com
SUMMARY:Meet with the Mayor
DESCRIPTION:
URL:https://townofdavidson.com/event/meet-with-the-mayor-4/
END:VEVENT
BEGIN:VEVENT
DTSTART;TZID=America/Regina:20251106T140000
DTEND;TZID=America/Regina:20251106T180000
DTSTAMP:20260425T074641
CREATED:20251014T212702Z
LAST-MODIFIED:20251024T192032Z
UID:2602-1762437600-1762452000@townofdavidson.com
SUMMARY:Vaccination Clinic - Note New Clinic Time
DESCRIPTION:Walk in only – No appointment necessary
URL:https://townofdavidson.com/event/vaccination-clinic-2/
LOCATION:Town Hall Auditorium\, 206 Washington Ave
END:VEVENT
BEGIN:VEVENT
DTSTART;TZID=America/Regina:20251108T150000
DTEND;TZID=America/Regina:20251108T170000
DTSTAMP:20260425T074641
CREATED:20251029T211732Z
LAST-MODIFIED:20251029T211831Z
UID:2635-1762614000-1762621200@townofdavidson.com
SUMMARY:Sharon & Marlow Nadeau Retirement
DESCRIPTION:You are welcome to come share a hug\, story\, and a thank you for two people who gave their hearts to this town. they loved seeing so many people daily and they will truly miss it.
URL:https://townofdavidson.com/event/sharon-marlow-nadeau-retirement/
LOCATION:Town Hall Auditorium\, 206 Washington Ave
END:VEVENT
BEGIN:VEVENT
DTSTART;TZID=America/Regina:20251113T100000
DTEND;TZID=America/Regina:20251113T150000
DTSTAMP:20260425T074641
CREATED:20250729T213541Z
LAST-MODIFIED:20250729T213541Z
UID:2421-1763028000-1763046000@townofdavidson.com
SUMMARY:Service Canada - No appointment needed
DESCRIPTION:
URL:https://townofdavidson.com/event/service-canada-no-appointment-needed-6/
LOCATION:Town Hall Meeting Room\, 206 Washington Avenue
END:VEVENT
BEGIN:VEVENT
DTSTART;TZID=America/Regina:20251113T183000
DTEND;TZID=America/Regina:20251113T213000
DTSTAMP:20260425T074641
CREATED:20250821T191848Z
LAST-MODIFIED:20250821T191848Z
UID:2527-1763058600-1763069400@townofdavidson.com
SUMMARY:Bingo Night!
DESCRIPTION:Davidson Skatepark Bingo Night\, doors option at 6:30 p.m. and games start at 7 p.m.  Cost is 3-up $5\, 6-up $10\, 9-up $12\, 12-up $15\, 15-up $18\, 18-up $20.  $2 bingo dabbers available for purchase at the door.  Chips\, candy\, chocolate bars\, pop and coffee available for purchase at the canteen. \nLottery License # CRB25-0011
URL:https://townofdavidson.com/event/bingo-night-4/
LOCATION:Town Hall Auditorium\, 206 Washington Ave
END:VEVENT
BEGIN:VEVENT
DTSTART;VALUE=DATE:20251115
DTEND;VALUE=DATE:20251116
DTSTAMP:20260425T074641
CREATED:20250828T191731Z
LAST-MODIFIED:20250828T191731Z
UID:2533-1763164800-1763251199@townofdavidson.com
SUMMARY:Pre-School Variety Fair
DESCRIPTION:Watch for Details
URL:https://townofdavidson.com/event/pre-school-variety-fair/
END:VEVENT
BEGIN:VEVENT
DTSTART;TZID=America/Regina:20251115T100000
DTEND;TZID=America/Regina:20251115T150000
DTSTAMP:20260425T074641
CREATED:20250909T151354Z
LAST-MODIFIED:20250909T151354Z
UID:2545-1763200800-1763218800@townofdavidson.com
SUMMARY:Davidson Playschool Variety Fair
DESCRIPTION:Apply to be a vendor by emailing: davidson.varietyfair@gmail.com \n$40 per table
URL:https://townofdavidson.com/event/davidson-playschool-variety-fair-3/
LOCATION:Town Hall Auditorium\, 206 Washington Ave
END:VEVENT
BEGIN:VEVENT
DTSTART;TZID=America/Regina:20251118T190000
DTEND;TZID=America/Regina:20251118T190000
DTSTAMP:20260425T074641
CREATED:20250923T232835Z
LAST-MODIFIED:20250923T232835Z
UID:2584-1763492400-1763492400@townofdavidson.com
SUMMARY:November Council Meeting
DESCRIPTION:All Council Meetings are open to the public.  Council may\, by resolution\, close all or part of a meeting to the public if a matter to be discussed at that meeting is within one of the exemptions listed in Part III of The Local Authority Freedom of Information and Protection of Privacy Actor concerns long-range or strategic planning.  No member of the public may speak to the Council during the meeting unless they are speaking as a member of a delegation on the agenda. \nPlease note: All communication from the public\, requests\, or any other material intended for inclusion in a council agenda must be received by the Administrator no later than 4:00 pm the Thursday immediately preceding the council meeting.  (Section 13.6 Council Procedure Bylaw No. 823)
URL:https://townofdavidson.com/event/november-council-meeting/
LOCATION:Town Council Chambers\, 206 Washington Avenue\, Davidson\, SK\, S0G 1A0\, Canada
END:VEVENT
BEGIN:VEVENT
DTSTART;TZID=America/Regina:20251127T100000
DTEND;TZID=America/Regina:20251127T150000
DTSTAMP:20260425T074641
CREATED:20250729T213622Z
LAST-MODIFIED:20250729T214152Z
UID:2423-1764237600-1764255600@townofdavidson.com
SUMMARY:Service Canada - No appointment needed
DESCRIPTION:
URL:https://townofdavidson.com/event/service-canada-no-appointment-needed-7/
LOCATION:Town Hall Meeting Room\, 206 Washington Avenue
END:VEVENT
END:VCALENDAR