BEGIN:VCALENDAR
VERSION:2.0
PRODID:-//Town of Davidson - ECPv6.0.4//NONSGML v1.0//EN
CALSCALE:GREGORIAN
METHOD:PUBLISH
X-WR-CALNAME:Town of Davidson
X-ORIGINAL-URL:https://townofdavidson.com
X-WR-CALDESC:Events for Town of Davidson
REFRESH-INTERVAL;VALUE=DURATION:PT1H
X-Robots-Tag:noindex
X-PUBLISHED-TTL:PT1H
BEGIN:VTIMEZONE
TZID:America/Regina
BEGIN:STANDARD
TZOFFSETFROM:-0600
TZOFFSETTO:-0600
TZNAME:CST
DTSTART:20250101T000000
END:STANDARD
END:VTIMEZONE
BEGIN:VEVENT
DTSTART;TZID=America/Regina:20250903T090000
DTEND;TZID=America/Regina:20250903T120000
DTSTAMP:20260425T111724
CREATED:20250227T194340Z
LAST-MODIFIED:20250815T171633Z
UID:2229-1756890000-1756900800@townofdavidson.com
SUMMARY:Meet with the Mayor
DESCRIPTION:The first Wednesday each month (unless otherwise posted)\, no appointment needed; drop in only. \nCouncil Chambers\, Davidson Town Hall
URL:https://townofdavidson.com/event/meet-with-the-mayor-2/
LOCATION:Town Council Chambers\, 206 Washington Avenue\, Davidson\, SK\, S0G 1A0\, Canada
END:VEVENT
BEGIN:VEVENT
DTSTART;VALUE=DATE:20250906
DTEND;VALUE=DATE:20250907
DTSTAMP:20260425T111724
CREATED:20250807T153542Z
LAST-MODIFIED:20250807T154132Z
UID:2492-1757116800-1757203199@townofdavidson.com
SUMMARY:Skateboard Camp
DESCRIPTION:In collaboration with Sask Lotteries\, the Town of Davidson and Right to Skate\, Davidson Skatepark Committee is proud to bring the second of two Skateboard Camps to our community. \nClick the link below to register for 1 of 2 sessions of skateboarding instruction with committee members at large\, Kyle Williams and Eric Morey\, on Saturday\, September 6th\, 2025.\nhttps://www.righttoskate.com/service-page/davidson-skate-camp-2?referral=service_list_widget \nA grant through the Town and Sask Lotteries have allowed for facility rental and lesson subsidy. Lessons are $21\, or if you are unable to pay\, Skate Scholarships can be granted through the Right to Skate website.\nhttps://www.righttoskate.com/skate-scholarships
URL:https://townofdavidson.com/event/skateboard-camp/
LOCATION:AGT Centre\, 600 Washington Ave
END:VEVENT
BEGIN:VEVENT
DTSTART;TZID=America/Regina:20250911T100000
DTEND;TZID=America/Regina:20250911T150000
DTSTAMP:20260425T111724
CREATED:20250729T213210Z
LAST-MODIFIED:20250729T213210Z
UID:2413-1757584800-1757602800@townofdavidson.com
SUMMARY:Service Canada - No appointment needed
DESCRIPTION:
URL:https://townofdavidson.com/event/service-canada-no-appointment-needed-2/
END:VEVENT
BEGIN:VEVENT
DTSTART;TZID=America/Regina:20250916T080000
DTEND;TZID=America/Regina:20250916T080000
DTSTAMP:20260425T111724
CREATED:20250909T152055Z
LAST-MODIFIED:20250909T152112Z
UID:2553-1758009600-1758009600@townofdavidson.com
SUMMARY:Fuel Good Day in support of the Davidson Fire Dept.
DESCRIPTION:with every fill\, Riverbend makes a donation to the Davidson Fire Dept.  Come out to fill your vehicle and enjoy a delicious lunch fundraiser as well.
URL:https://townofdavidson.com/event/fuel-good-day-in-support-of-the-davidson-fire-dept/
END:VEVENT
BEGIN:VEVENT
DTSTART;TZID=America/Regina:20250916T190000
DTEND;TZID=America/Regina:20250916T220000
DTSTAMP:20260425T111724
CREATED:20250618T212613Z
LAST-MODIFIED:20250618T212613Z
UID:2350-1758049200-1758060000@townofdavidson.com
SUMMARY:September Council Mtg
DESCRIPTION:All Council Meetings are open to the public.  Council may\, by resolution\, close all or part of a meeting to the public if a matter to be discussed at that meeting is within one of the exemptions listed in Part III of The Local Authority Freedom of Information and Protection of Privacy Actor concerns long-range or strategic planning.  No member of the public may speak to the Council during the meeting unless they are speaking as a member of a delegation on the agenda. \nPlease note: All communication from the public\, requests\, or any other material intended for inclusion in a council agenda must be received by the Administrator no later than 4:00 pm the Thursday immediately preceding the council meeting.  (Section 13.6 Council Procedure Bylaw No. 823)
URL:https://townofdavidson.com/event/september-council-mtg/
LOCATION:Town Council Chambers\, 206 Washington Avenue\, Davidson\, SK\, S0G 1A0\, Canada
END:VEVENT
BEGIN:VEVENT
DTSTART;TZID=America/Regina:20250917T190000
DTEND;TZID=America/Regina:20250917T190000
DTSTAMP:20260425T111724
CREATED:20250909T151239Z
LAST-MODIFIED:20250909T151239Z
UID:2543-1758135600-1758135600@townofdavidson.com
SUMMARY:Davidson JAA Fall General Meeting
DESCRIPTION:Wed.\, Sept 17th at 7 p.m.\, AGT Centre. \nCoaches\, Managers\, Parents – everyone welcome!
URL:https://townofdavidson.com/event/davidson-jaa-fall-general-meeting/
LOCATION:AGT Centre\, 600 Washington Ave
END:VEVENT
BEGIN:VEVENT
DTSTART;TZID=America/Regina:20250918T183000
DTEND;TZID=America/Regina:20250918T213000
DTSTAMP:20260425T111724
CREATED:20250821T191721Z
LAST-MODIFIED:20250821T191721Z
UID:2522-1758220200-1758231000@townofdavidson.com
SUMMARY:Bingo Night!
DESCRIPTION:Davidson Skatepark Bingo Night\, doors option at 6:30 p.m. and games start at 7 p.m.  Cost is 3-up $5\, 6-up $10\, 9-up $12\, 12-up $15\, 15-up $18\, 18-up $20.  $2 bingo dabbers available for purchase at the door.  Chips\, candy\, chocolate bars\, pop and coffee available for purchase at the canteen. \nLottery License # CRB25-0011
URL:https://townofdavidson.com/event/bingo-night-2/
LOCATION:Town Hall Auditorium\, 206 Washington Ave
END:VEVENT
BEGIN:VEVENT
DTSTART;TZID=America/Regina:20250921T100000
DTEND;TZID=America/Regina:20250921T120000
DTSTAMP:20260425T111724
CREATED:20250909T151910Z
LAST-MODIFIED:20250909T151910Z
UID:2551-1758448800-1758456000@townofdavidson.com
SUMMARY:Davidson Child Care Inc. Bottle Drive
DESCRIPTION:curbside pick-up starting at 10 a.m. \nDrop off option before event: Davidson SARCAN and request donation to the Davidson Child Care Inc.
URL:https://townofdavidson.com/event/davidson-child-care-inc-bottle-drive/
END:VEVENT
BEGIN:VEVENT
DTSTART;TZID=America/Regina:20250925T100000
DTEND;TZID=America/Regina:20250925T150000
DTSTAMP:20260425T111724
CREATED:20250729T213317Z
LAST-MODIFIED:20250729T213317Z
UID:2415-1758794400-1758812400@townofdavidson.com
SUMMARY:Service Canada - No appointment needed
DESCRIPTION:
URL:https://townofdavidson.com/event/service-canada-no-appointment-needed-3/
END:VEVENT
BEGIN:VEVENT
DTSTART;TZID=America/Regina:20250925T110000
DTEND;TZID=America/Regina:20250925T140000
DTSTAMP:20260425T111724
CREATED:20250909T151736Z
LAST-MODIFIED:20250909T151736Z
UID:2549-1758798000-1758808800@townofdavidson.com
SUMMARY:KalTire/Skatepark Committee BBQ
DESCRIPTION:BBQ by donation; donations will be matched by KalTire.
URL:https://townofdavidson.com/event/kaltire-skatepark-committee-bbq/
END:VEVENT
BEGIN:VEVENT
DTSTART;TZID=America/Regina:20250930T080000
DTEND;TZID=America/Regina:20250930T170000
DTSTAMP:20260425T111724
CREATED:20250911T202555Z
LAST-MODIFIED:20250911T202555Z
UID:2556-1759219200-1759251600@townofdavidson.com
SUMMARY:CLOSED - Truth & Reconciliation Day
DESCRIPTION:Town Office & Public Works Dept. will be CLOSED on Tuesday\, Sept. 30 \nThis day is an opportunity to honor the children who never returned home\, the survivors of residential schools\, and their families and communities. We encourage everyone to take time to reflect\, learn\, and participate in events or activities that support reconciliation.
URL:https://townofdavidson.com/event/closed-truth-reconciliation-day/
END:VEVENT
END:VCALENDAR