BEGIN:VCALENDAR
VERSION:2.0
PRODID:-//Town of Davidson - ECPv6.0.4//NONSGML v1.0//EN
CALSCALE:GREGORIAN
METHOD:PUBLISH
X-WR-CALNAME:Town of Davidson
X-ORIGINAL-URL:https://townofdavidson.com
X-WR-CALDESC:Events for Town of Davidson
REFRESH-INTERVAL;VALUE=DURATION:PT1H
X-Robots-Tag:noindex
X-PUBLISHED-TTL:PT1H
BEGIN:VTIMEZONE
TZID:America/Regina
BEGIN:STANDARD
TZOFFSETFROM:-0600
TZOFFSETTO:-0600
TZNAME:CST
DTSTART:20250101T000000
END:STANDARD
END:VTIMEZONE
BEGIN:VEVENT
DTSTART;VALUE=DATE:20250505
DTEND;VALUE=DATE:20250508
DTSTAMP:20260425T171252
CREATED:20250501T220135Z
LAST-MODIFIED:20250501T220135Z
UID:2301-1746403200-1746662399@townofdavidson.com
SUMMARY:Town Office closed to the public
DESCRIPTION:
URL:https://townofdavidson.com/event/town-office-closed-to-the-public/
END:VEVENT
BEGIN:VEVENT
DTSTART;VALUE=DATE:20250513
DTEND;VALUE=DATE:20250514
DTSTAMP:20260425T171252
CREATED:20250501T220224Z
LAST-MODIFIED:20250501T220224Z
UID:2303-1747094400-1747180799@townofdavidson.com
SUMMARY:Town Office closed to the public
DESCRIPTION:
URL:https://townofdavidson.com/event/town-office-closed-to-the-public-2/
END:VEVENT
BEGIN:VEVENT
DTSTART;TZID=America/Regina:20250513T150000
DTEND;TZID=America/Regina:20250513T190000
DTSTAMP:20260425T171252
CREATED:20250419T192034Z
LAST-MODIFIED:20250419T192034Z
UID:2275-1747148400-1747162800@townofdavidson.com
SUMMARY:Canadian Blood Services
DESCRIPTION:Come by and donate. Snacks are on us.\nWe have 94 spots open to donate blood.\nDavidson Town Hall – 206 Washington Ave \nTuesday\, May 13th from 3 – 7 p.m. \nBook now at blood.ca
URL:https://townofdavidson.com/event/canadian-blood-services/
LOCATION:Town Hall Auditorium\, 206 Washington Ave
END:VEVENT
BEGIN:VEVENT
DTSTART;VALUE=DATE:20250520
DTEND;VALUE=DATE:20250521
DTSTAMP:20260425T171252
CREATED:20250501T220236Z
LAST-MODIFIED:20250501T220236Z
UID:2305-1747699200-1747785599@townofdavidson.com
SUMMARY:Town Office closed to the public
DESCRIPTION:
URL:https://townofdavidson.com/event/town-office-closed-to-the-public-3/
END:VEVENT
BEGIN:VEVENT
DTSTART;TZID=America/Regina:20250520T190000
DTEND;TZID=America/Regina:20250520T213000
DTSTAMP:20260425T171252
CREATED:20250501T201844Z
LAST-MODIFIED:20250501T201844Z
UID:2299-1747767600-1747776600@townofdavidson.com
SUMMARY:May Council Meeting
DESCRIPTION:All Council Meetings are open to the public.  Council may\, by resolution\, close all or part of a meeting to the public if a matter to be discussed at that meeting is within one of the exemptions listed in Part III of The Local Authority Freedom of Information and Protection of Privacy Actor concerns long-range or strategic planning.  No member of the public may speak to the Council during the meeting unless they are speaking as a member of a delegation on the agenda. \nPlease note: All communication from the public\, requests\, or any other material intended for inclusion in a council agenda must be received by the Administrator no later than 4:00 pm the Thursday immediately preceding the council meeting.  (Section 13.6 Council Procedure Bylaw No. 823)
URL:https://townofdavidson.com/event/may-council-meeting-3/
LOCATION:Town Council Chambers\, 206 Washington Avenue\, Davidson\, SK\, S0G 1A0\, Canada
END:VEVENT
BEGIN:VEVENT
DTSTART;VALUE=DATE:20250527
DTEND;VALUE=DATE:20250528
DTSTAMP:20260425T171252
CREATED:20250501T220249Z
LAST-MODIFIED:20250501T220249Z
UID:2307-1748304000-1748390399@townofdavidson.com
SUMMARY:Town Office closed to the public
DESCRIPTION:
URL:https://townofdavidson.com/event/town-office-closed-to-the-public-4/
END:VEVENT
END:VCALENDAR