BEGIN:VCALENDAR
VERSION:2.0
PRODID:-//Town of Davidson - ECPv6.0.4//NONSGML v1.0//EN
CALSCALE:GREGORIAN
METHOD:PUBLISH
X-WR-CALNAME:Town of Davidson
X-ORIGINAL-URL:https://townofdavidson.com
X-WR-CALDESC:Events for Town of Davidson
REFRESH-INTERVAL;VALUE=DURATION:PT1H
X-Robots-Tag:noindex
X-PUBLISHED-TTL:PT1H
BEGIN:VTIMEZONE
TZID:America/Regina
BEGIN:STANDARD
TZOFFSETFROM:-0600
TZOFFSETTO:-0600
TZNAME:CST
DTSTART:20260101T000000
END:STANDARD
END:VTIMEZONE
BEGIN:VEVENT
DTSTART;TZID=America/Regina:20260106T150000
DTEND;TZID=America/Regina:20260106T190000
DTSTAMP:20260425T054851
CREATED:20251218T204311Z
LAST-MODIFIED:20251218T204311Z
UID:2694-1767711600-1767726000@townofdavidson.com
SUMMARY:Blood Donor Clinic
DESCRIPTION:
URL:https://townofdavidson.com/event/blood-donor-clinic/
LOCATION:Town Hall Auditorium\, 206 Washington Ave
END:VEVENT
END:VCALENDAR