BEGIN:VCALENDAR
VERSION:2.0
PRODID:-//Town of Davidson - ECPv6.0.4//NONSGML v1.0//EN
CALSCALE:GREGORIAN
METHOD:PUBLISH
X-ORIGINAL-URL:https://townofdavidson.com
X-WR-CALDESC:Events for Town of Davidson
REFRESH-INTERVAL;VALUE=DURATION:PT1H
X-Robots-Tag:noindex
X-PUBLISHED-TTL:PT1H
BEGIN:VTIMEZONE
TZID:America/Regina
BEGIN:STANDARD
TZOFFSETFROM:-0600
TZOFFSETTO:-0600
TZNAME:CST
DTSTART:20250101T000000
END:STANDARD
END:VTIMEZONE
BEGIN:VEVENT
DTSTART;VALUE=DATE:20251115
DTEND;VALUE=DATE:20251116
DTSTAMP:20260425T094946
CREATED:20250828T191731Z
LAST-MODIFIED:20250828T191731Z
UID:2533-1763164800-1763251199@townofdavidson.com
SUMMARY:Pre-School Variety Fair
DESCRIPTION:Watch for Details
URL:https://townofdavidson.com/event/pre-school-variety-fair/
END:VEVENT
BEGIN:VEVENT
DTSTART;TZID=America/Regina:20251115T100000
DTEND;TZID=America/Regina:20251115T150000
DTSTAMP:20260425T094946
CREATED:20250909T151354Z
LAST-MODIFIED:20250909T151354Z
UID:2545-1763200800-1763218800@townofdavidson.com
SUMMARY:Davidson Playschool Variety Fair
DESCRIPTION:Apply to be a vendor by emailing: davidson.varietyfair@gmail.com \n$40 per table
URL:https://townofdavidson.com/event/davidson-playschool-variety-fair-3/
LOCATION:Town Hall Auditorium\, 206 Washington Ave
END:VEVENT
END:VCALENDAR