BEGIN:VCALENDAR
VERSION:2.0
PRODID:-//Town of Davidson - ECPv6.0.4//NONSGML v1.0//EN
CALSCALE:GREGORIAN
METHOD:PUBLISH
X-WR-CALNAME:Town of Davidson
X-ORIGINAL-URL:https://townofdavidson.com
X-WR-CALDESC:Events for Town of Davidson
REFRESH-INTERVAL;VALUE=DURATION:PT1H
X-Robots-Tag:noindex
X-PUBLISHED-TTL:PT1H
BEGIN:VTIMEZONE
TZID:America/Regina
BEGIN:STANDARD
TZOFFSETFROM:-0600
TZOFFSETTO:-0600
TZNAME:CST
DTSTART:20250101T000000
END:STANDARD
END:VTIMEZONE
BEGIN:VEVENT
DTSTART;TZID=America/Regina:20251023T100000
DTEND;TZID=America/Regina:20251023T150000
DTSTAMP:20260425T111720
CREATED:20250729T213500Z
LAST-MODIFIED:20250729T213500Z
UID:2419-1761213600-1761231600@townofdavidson.com
SUMMARY:Service Canada - No appointment needed
DESCRIPTION:
URL:https://townofdavidson.com/event/service-canada-no-appointment-needed-5/
LOCATION:Town Hall Meeting Room\, 206 Washington Avenue
END:VEVENT
BEGIN:VEVENT
DTSTART;TZID=America/Regina:20251023T120000
DTEND;TZID=America/Regina:20251023T180000
DTSTAMP:20260425T111720
CREATED:20251014T212606Z
LAST-MODIFIED:20251014T212606Z
UID:2600-1761220800-1761242400@townofdavidson.com
SUMMARY:Vaccination Clinic
DESCRIPTION:Walk in only – No appointment necessary
URL:https://townofdavidson.com/event/vaccination-clinic/
LOCATION:Town Hall Auditorium\, 206 Washington Ave
END:VEVENT
END:VCALENDAR