BEGIN:VCALENDAR
VERSION:2.0
PRODID:-//Town of Davidson - ECPv6.0.4//NONSGML v1.0//EN
CALSCALE:GREGORIAN
METHOD:PUBLISH
X-WR-CALNAME:Town of Davidson
X-ORIGINAL-URL:https://townofdavidson.com
X-WR-CALDESC:Events for Town of Davidson
REFRESH-INTERVAL;VALUE=DURATION:PT1H
X-Robots-Tag:noindex
X-PUBLISHED-TTL:PT1H
BEGIN:VTIMEZONE
TZID:America/Regina
BEGIN:STANDARD
TZOFFSETFROM:-0600
TZOFFSETTO:-0600
TZNAME:CST
DTSTART:20250101T000000
END:STANDARD
END:VTIMEZONE
BEGIN:VEVENT
DTSTART;TZID=America/Regina:20251014T170000
DTEND;TZID=America/Regina:20251014T190000
DTSTAMP:20260425T111719
CREATED:20251014T213352Z
LAST-MODIFIED:20251014T213837Z
UID:2604-1760461200-1760468400@townofdavidson.com
SUMMARY:Knights of Columbus Community Supper
DESCRIPTION:415 Lincoln St\, Davidson Sk \nRoast Beef\, Stuffed Pork Loin with all the fixings \nEveryone Welcome! \nAdults – $20 \nStudents 14 years and under – $14 \nTake out available – Call or Text Larry Packet 306-567-3180
URL:https://townofdavidson.com/event/knights-of-columbus-community-supper-2/
END:VEVENT
END:VCALENDAR