BEGIN:VCALENDAR
VERSION:2.0
PRODID:-//Town of Davidson - ECPv6.0.4//NONSGML v1.0//EN
CALSCALE:GREGORIAN
METHOD:PUBLISH
X-WR-CALNAME:Town of Davidson
X-ORIGINAL-URL:https://townofdavidson.com
X-WR-CALDESC:Events for Town of Davidson
REFRESH-INTERVAL;VALUE=DURATION:PT1H
X-Robots-Tag:noindex
X-PUBLISHED-TTL:PT1H
BEGIN:VTIMEZONE
TZID:America/Regina
BEGIN:STANDARD
TZOFFSETFROM:-0600
TZOFFSETTO:-0600
TZNAME:CST
DTSTART:20250101T000000
END:STANDARD
END:VTIMEZONE
BEGIN:VEVENT
DTSTART;TZID=America/Regina:20251002T080000
DTEND;TZID=America/Regina:20251002T170000
DTSTAMP:20260425T111713
CREATED:20250911T202647Z
LAST-MODIFIED:20250911T202647Z
UID:2558-1759392000-1759424400@townofdavidson.com
SUMMARY:Town Office CLOSED
DESCRIPTION:The Town Office will be CLOSED Thursday\, October 2nd for computer upgrades.
URL:https://townofdavidson.com/event/town-office-closed-3/
END:VEVENT
END:VCALENDAR