BEGIN:VCALENDAR
VERSION:2.0
PRODID:-//Town of Davidson - ECPv6.0.4//NONSGML v1.0//EN
CALSCALE:GREGORIAN
METHOD:PUBLISH
X-WR-CALNAME:Town of Davidson
X-ORIGINAL-URL:https://townofdavidson.com
X-WR-CALDESC:Events for Town of Davidson
REFRESH-INTERVAL;VALUE=DURATION:PT1H
X-Robots-Tag:noindex
X-PUBLISHED-TTL:PT1H
BEGIN:VTIMEZONE
TZID:America/Regina
BEGIN:STANDARD
TZOFFSETFROM:-0600
TZOFFSETTO:-0600
TZNAME:CST
DTSTART:20250101T000000
END:STANDARD
END:VTIMEZONE
BEGIN:VEVENT
DTSTART;TZID=America/Regina:20251001T090000
DTEND;TZID=America/Regina:20251001T120000
DTSTAMP:20260425T111626
CREATED:20250911T202902Z
LAST-MODIFIED:20250911T202902Z
UID:2560-1759309200-1759320000@townofdavidson.com
SUMMARY:Meet with the Mayor
DESCRIPTION:The first Wednesday each month (unless otherwise posted)\, no appointment needed; drop in only. \nCouncil Chambers\, Davidson Town Hall
URL:https://townofdavidson.com/event/meet-with-the-mayor-3/
END:VEVENT
END:VCALENDAR