BEGIN:VCALENDAR
VERSION:2.0
PRODID:-//Town of Davidson - ECPv6.0.4//NONSGML v1.0//EN
CALSCALE:GREGORIAN
METHOD:PUBLISH
X-ORIGINAL-URL:https://townofdavidson.com
X-WR-CALDESC:Events for Town of Davidson
REFRESH-INTERVAL;VALUE=DURATION:PT1H
X-Robots-Tag:noindex
X-PUBLISHED-TTL:PT1H
BEGIN:VTIMEZONE
TZID:America/Regina
BEGIN:STANDARD
TZOFFSETFROM:-0600
TZOFFSETTO:-0600
TZNAME:CST
DTSTART:20250101T000000
END:STANDARD
END:VTIMEZONE
BEGIN:VEVENT
DTSTART;TZID=America/Regina:20250814T100000
DTEND;TZID=America/Regina:20250814T150000
DTSTAMP:20260425T141651
CREATED:20250729T212635Z
LAST-MODIFIED:20250729T214558Z
UID:2409-1755165600-1755183600@townofdavidson.com
SUMMARY:Service Canada - No appointment needed
DESCRIPTION:
URL:https://townofdavidson.com/event/service-canada/
LOCATION:Town Hall Meeting Room\, 206 Washington Avenue
END:VEVENT
BEGIN:VEVENT
DTSTART;TZID=America/Regina:20250814T193000
DTEND;TZID=America/Regina:20250814T193000
DTSTAMP:20260425T141651
CREATED:20250807T153159Z
LAST-MODIFIED:20250807T153242Z
UID:2489-1755199800-1755199800@townofdavidson.com
SUMMARY:Riverbend Co-op  Movie Night
DESCRIPTION:Riverbend Co-op’s 95th Anniversary Celebration continues with a Movie Night at the AGT Centre in Davidson. \nBring your own chair\, doors will open at 7 p.m.\, and enjoy a fun evening with the whole family.  They’ll have snacks and drinks ready for you! \n.
URL:https://townofdavidson.com/event/riverbend-co-op-movie-night/
LOCATION:AGT Centre\, 600 Washington Ave
END:VEVENT
END:VCALENDAR