BEGIN:VCALENDAR
VERSION:2.0
PRODID:-//Town of Davidson - ECPv6.0.4//NONSGML v1.0//EN
CALSCALE:GREGORIAN
METHOD:PUBLISH
X-WR-CALNAME:Town of Davidson
X-ORIGINAL-URL:https://townofdavidson.com
X-WR-CALDESC:Events for Town of Davidson
REFRESH-INTERVAL;VALUE=DURATION:PT1H
X-Robots-Tag:noindex
X-PUBLISHED-TTL:PT1H
BEGIN:VTIMEZONE
TZID:America/Regina
BEGIN:STANDARD
TZOFFSETFROM:-0600
TZOFFSETTO:-0600
TZNAME:CST
DTSTART:20250101T000000
END:STANDARD
END:VTIMEZONE
BEGIN:VEVENT
DTSTART;VALUE=DATE:20250620
DTEND;VALUE=DATE:20250621
DTSTAMP:20260425T171246
CREATED:20250618T212720Z
LAST-MODIFIED:20250618T212720Z
UID:2352-1750377600-1750463999@townofdavidson.com
SUMMARY:Davidson Days 2025!
DESCRIPTION:Friday June 20th  \n4:00pm–1:00am   Beer Gardens – AGT Centre Curling \n5:00–7:00pm      Community Meal – AGT Centre Curling \n5:00pm        Slo-Pitch Tournament starts Diamonds 1 & 2 \n6:00pm        Minor Ball Games Diamonds 3 & 4 \n7:00-9:00pm    Bingo – AGT Centre – Curling \n7:00-8:00pm    Hit\, Bowl and Win–Cricket Fun–Football Field \n10:30pm (dusk) Fireworks – AGT Centre parking lot and sports fields
URL:https://townofdavidson.com/event/davidson-days-2025/
LOCATION:AGT Centre\, 600 Washington Ave
END:VEVENT
END:VCALENDAR